BEGIN:VCALENDAR
VERSION:2.0
PRODID:-//ldto/asd//NONSGML v1.0//EN
CALSCALE:GREGORIAN
BEGIN:VEVENT
UID:2019-224@linuxdaytorino.org
SUMMARY:Velocizzare le query con Dremio
DESCRIPTION:Dremio è una piattaforma Data-as-a-Service. Permette alle aziende di gestire dati on demand, in modo accurato, partendo da un qualsiasi data source, fino ad accellerare i processi dei tools di BI, machine learning, data science e client SQL. Dremio ha un approccio diverso da qualsiasi strumento di data analitycs, permettendo di integrare i vari processi in una soluzione all in one, scalabile da 1-1000+ server.  Dremio può essere utilizzato per:   * Data discovery  * Accelerazione sulla fruibilità del dato  * Distribuzione computazionale delle query SQL  * Query native ed ottimizzate per i database relazionali, NoSQL, Hadoop e file system  * Visione generale ottimizzata riguardo il lineage dei dati  * Data governance  * Accesso dinamico riga/colonna, oltre che data masking, su qualsiasi sorgente.
URL;VALUE=URI:https://linuxdaytorino.org/2019/talk/big-data?l=it
GEO:45.0503;7.66913
DTSTART:20191026T150000Z
DTEND:20191026T160000Z
DTSTAMP:20260423T131002Z
END:VEVENT
END:VCALENDAR