BEGIN:VCALENDAR
VERSION:2.0
PRODID:-//ldto/asd//NONSGML v1.0//EN
CALSCALE:GREGORIAN
BEGIN:VEVENT
UID:2019-222@linuxdaytorino.org
SUMMARY:Don't Touch My Data
DESCRIPTION:Ci sono parecchi modi con cui tu, ogni giorno, mandi la tua privacy a farsi friggere, anche se magari... dici che &quot;non ho niente da nascondere&quot;.  Intanto perchè chi &quot;non ha niente da nascondere&quot; in realtà mente. Sempre. E poi, le tue abitudini compromettono anche gli altri, e questo dovresti evitarlo.  Insieme, cercheremo di capire cosa stiamo sbagliando, chi ne sta approfittando e come difenderci, smantellando anche qualche luogo comune.  Spoiler: la cura non è il tuo antivirus o un client VPN.
URL;VALUE=URI:https://linuxdaytorino.org/2019/talk/dont-touch-my-data?l=it
GEO:45.0503;7.66913
DTSTART:20191026T150000Z
DTEND:20191026T160000Z
DTSTAMP:20260423T130810Z
END:VEVENT
END:VCALENDAR