BEGIN:VCALENDAR
VERSION:2.0
PRODID:-//ldto/asd//NONSGML v1.0//EN
CALSCALE:GREGORIAN
BEGIN:VEVENT
UID:2019-221@linuxdaytorino.org
SUMMARY:Primi passi con GNU/Linux
URL;VALUE=URI:https://linuxdaytorino.org/2019/talk/first-steps-with-gnu-linux?l=it
GEO:45.0503;7.66913
DTSTART:20191026T140000Z
DTEND:20191026T150000Z
DTSTAMP:20260423T130729Z
END:VEVENT
END:VCALENDAR