BEGIN:VCALENDAR
VERSION:2.0
PRODID:-//ldto/asd//NONSGML v1.0//EN
CALSCALE:GREGORIAN
BEGIN:VEVENT
UID:2019-223@linuxdaytorino.org
SUMMARY:Private Cloud
DESCRIPTION:Il talk si prefigge di illustrare le tecnologie e le metodologie per la creazione e configurazione di un proprio server privato.  La prima parte si focalizza sulla storia recente di internet e descrive come esso sia completamente cambiato. Il software libero ed open source e le risorse quasi illimitate dei grandi colossi del web (Google, Microsoft, Apple, ecc.) hanno permesso la creazione di innumerevoli servizi: dalla posta elettronica alla gestione dei contatti e calendari, dal backup automatico sul cloud alla condivisione di video e documenti.  Dopo la definizione (e l'interpretazione) del termine &quot;cloud&quot; vengono presentate le tecnologie necessarie ad ottenere l'indipendenza tecnologica: la configurazione di un proprio server. Sono elencati in dettaglio i software, gli strumenti e le soluzioni da utilizzare.  L'ultima parte è dedicata alla descrizione di un caso pratico e reale, ovvero la configurazione di tre macchine ad uso aziendale dal 2010 ad oggi.
URL;VALUE=URI:https://linuxdaytorino.org/2019/talk/private-cloud?l=it
GEO:45.0503;7.66913
DTSTART:20191026T160000Z
DTEND:20191026T170000Z
DTSTAMP:20260423T131512Z
END:VEVENT
END:VCALENDAR