BEGIN:VCALENDAR
VERSION:2.0
PRODID:-//ldto/asd//NONSGML v1.0//EN
CALSCALE:GREGORIAN
BEGIN:VEVENT
UID:2019-237@linuxdaytorino.org
SUMMARY:Quantum Computing
DESCRIPTION:Oltre a scoprire le differenze fra un computer &quot;normale&quot; e un computer quantistico, si parlerà delle parole magiche della meccanica quantistica: sovrapposizione ed entanglement.  Vedremo il più semplice algoritmo Deutsch, con un caso classica e la parte quantistica.
URL;VALUE=URI:https://linuxdaytorino.org/2019/talk/quantum-computing?l=it
GEO:45.0503;7.66913
DTSTART:20191026T170000Z
DTEND:20191026T180000Z
DTSTAMP:20260423T131135Z
END:VEVENT
END:VCALENDAR