BEGIN:VCALENDAR
VERSION:2.0
PRODID:-//ldto/asd//NONSGML v1.0//EN
CALSCALE:GREGORIAN
BEGIN:VEVENT
UID:2019-230@linuxdaytorino.org
SUMMARY:ReadTheDocs
DESCRIPTION:Durante il 2018 sono stato un consulente per il Team per la Trasformazione Digitale del governo italiano per lavorare su [Docs Italia](https://docs.italia.it), una piattaforma Open Source per collezionare e condividere la documentazione della Pubblica Amministrazione.  Non abbiamo scritto Docs Italia da zero, ma lo abbiamo costruito sopra a Read The Docs: la piattaforma di riferimento la documentazione di pacchetti Python. Questo ci ha permesso di risparmiare un bel po' di lavoro! Ma il software Open Source non si scrive da solo e abbiamo fatto la nostra parte contribuendo a Read The Docs. In questo talk racconterò cosa abbiamo fatto e cosa abbiamo imparato.
URL;VALUE=URI:https://linuxdaytorino.org/2019/talk/read-the-docs?l=it
GEO:45.0503;7.66913
DTSTART:20191026T140000Z
DTEND:20191026T150000Z
DTSTAMP:20260423T131512Z
END:VEVENT
END:VCALENDAR