BEGIN:VCALENDAR
VERSION:2.0
PRODID:-//ldto/asd//NONSGML v1.0//EN
CALSCALE:GREGORIAN
BEGIN:VEVENT
UID:2019-232@linuxdaytorino.org
SUMMARY:Rust
URL;VALUE=URI:https://linuxdaytorino.org/2019/talk/rust?l=it
GEO:45.0503;7.66913
DTSTART:20191026T150000Z
DTEND:20191026T160000Z
DTSTAMP:20260423T131707Z
END:VEVENT
END:VCALENDAR